BEGIN:VCALENDAR
VERSION:2.0
PRODID:-//Toastmasters Mandurah - ECPv6.15.1.1//NONSGML v1.0//EN
CALSCALE:GREGORIAN
METHOD:PUBLISH
X-WR-CALNAME:Toastmasters Mandurah
X-ORIGINAL-URL:https://mandurahtoastmasters.com.au
X-WR-CALDESC:Events for Toastmasters Mandurah
REFRESH-INTERVAL;VALUE=DURATION:PT1H
X-Robots-Tag:noindex
X-PUBLISHED-TTL:PT1H
BEGIN:VTIMEZONE
TZID:Australia/Perth
BEGIN:STANDARD
TZOFFSETFROM:+0800
TZOFFSETTO:+0800
TZNAME:AWST
DTSTART:20260101T000000
END:STANDARD
END:VTIMEZONE
BEGIN:VEVENT
DTSTART;TZID=Australia/Perth:20260316T190000
DTEND;TZID=Australia/Perth:20260316T210000
DTSTAMP:20260424T011202
CREATED:20220707T233925Z
LAST-MODIFIED:20260221T171800Z
UID:1179-1773687600-1773694800@mandurahtoastmasters.com.au
SUMMARY:Mandjar Toastmasters General Meeting
DESCRIPTION:
URL:https://mandurahtoastmasters.com.au/event/mandjar-toastmasters-general-meeting-2026-03-16/
LOCATION:Bortolo Pavilion\, 1 Bortolo Drive\, Greenfields WA 6210\, Greenfields\, WA\, 6210\, Australia
CATEGORIES:General Meeting
END:VEVENT
BEGIN:VEVENT
DTSTART;TZID=Australia/Perth:20260330T190000
DTEND;TZID=Australia/Perth:20260330T210000
DTSTAMP:20260424T011202
CREATED:20220707T233925Z
LAST-MODIFIED:20220707T233925Z
UID:1180-1774897200-1774904400@mandurahtoastmasters.com.au
SUMMARY:Mandjar Toastmasters General Meeting
DESCRIPTION:
URL:https://mandurahtoastmasters.com.au/event/mandjar-toastmasters-general-meeting-2026-03-30/
LOCATION:Bortolo Pavilion\, 1 Bortolo Drive\, Greenfields WA 6210\, Greenfields\, WA\, 6210\, Australia
CATEGORIES:General Meeting
END:VEVENT
END:VCALENDAR