BEGIN:VCALENDAR
VERSION:2.0
PRODID:-//Toastmasters Mandurah - ECPv6.15.1.1//NONSGML v1.0//EN
CALSCALE:GREGORIAN
METHOD:PUBLISH
X-WR-CALNAME:Toastmasters Mandurah
X-ORIGINAL-URL:https://mandurahtoastmasters.com.au
X-WR-CALDESC:Events for Toastmasters Mandurah
REFRESH-INTERVAL;VALUE=DURATION:PT1H
X-Robots-Tag:noindex
X-PUBLISHED-TTL:PT1H
BEGIN:VTIMEZONE
TZID:Australia/Perth
BEGIN:STANDARD
TZOFFSETFROM:+0800
TZOFFSETTO:+0800
TZNAME:AWST
DTSTART:20230101T000000
END:STANDARD
END:VTIMEZONE
BEGIN:VEVENT
DTSTART;TZID=Australia/Perth:20240429T190000
DTEND;TZID=Australia/Perth:20240429T210000
DTSTAMP:20260425T025132
CREATED:20220707T233925Z
LAST-MODIFIED:20240218T090006Z
UID:988-1714417200-1714424400@mandurahtoastmasters.com.au
SUMMARY:Mandjar Toastmasters General Meeting
DESCRIPTION:
URL:https://mandurahtoastmasters.com.au/event/mandjar-toastmasters-general-meeting-2024-04-29/
LOCATION:Bortolo Pavilion\, 1 Bortolo Drive\, Greenfields WA 6210\, Greenfields\, WA\, 6210\, Australia
CATEGORIES:General Meeting
END:VEVENT
BEGIN:VEVENT
DTSTART;TZID=Australia/Perth:20240415T190000
DTEND;TZID=Australia/Perth:20240415T210000
DTSTAMP:20260425T025132
CREATED:20220707T233925Z
LAST-MODIFIED:20240218T090006Z
UID:987-1713207600-1713214800@mandurahtoastmasters.com.au
SUMMARY:Mandjar Toastmasters General Meeting
DESCRIPTION:
URL:https://mandurahtoastmasters.com.au/event/mandjar-toastmasters-general-meeting-2024-04-15/
LOCATION:Bortolo Pavilion\, 1 Bortolo Drive\, Greenfields WA 6210\, Greenfields\, WA\, 6210\, Australia
CATEGORIES:General Meeting
END:VEVENT
BEGIN:VEVENT
DTSTART;TZID=Australia/Perth:20240404T183000
DTEND;TZID=Australia/Perth:20240404T203000
DTSTAMP:20260425T025132
CREATED:20240218T090537Z
LAST-MODIFIED:20240221T092309Z
UID:1165-1712255400-1712262600@mandurahtoastmasters.com.au
SUMMARY:Toast Talk Night
DESCRIPTION:Toast talk night
URL:https://mandurahtoastmasters.com.au/event/toast-talk-night-2/
LOCATION:All Malt Brewing\, Mandurah\, 5 Martyn Rd\, Mandurah WA 6210
CATEGORIES:Social Events
END:VEVENT
BEGIN:VEVENT
DTSTART;TZID=Australia/Perth:20240331T190000
DTEND;TZID=Australia/Perth:20240331T210000
DTSTAMP:20260425T025132
CREATED:20240218T090731Z
LAST-MODIFIED:20240218T090731Z
UID:1169-1711911600-1711918800@mandurahtoastmasters.com.au
SUMMARY:Fees Due
DESCRIPTION:Toastmasters Fees due
URL:https://mandurahtoastmasters.com.au/event/fees-due/
LOCATION:WA
CATEGORIES:Fees Due
END:VEVENT
BEGIN:VEVENT
DTSTART;TZID=Australia/Perth:20240318T190000
DTEND;TZID=Australia/Perth:20240318T210000
DTSTAMP:20260425T025132
CREATED:20220707T233925Z
LAST-MODIFIED:20240218T090007Z
UID:985-1710788400-1710795600@mandurahtoastmasters.com.au
SUMMARY:Mandjar Toastmasters General Meeting
DESCRIPTION:
URL:https://mandurahtoastmasters.com.au/event/mandjar-toastmasters-general-meeting-2024-03-18/
LOCATION:Bortolo Pavilion\, 1 Bortolo Drive\, Greenfields WA 6210\, Greenfields\, WA\, 6210\, Australia
CATEGORIES:General Meeting
END:VEVENT
BEGIN:VEVENT
DTSTART;TZID=Australia/Perth:20240307T183000
DTEND;TZID=Australia/Perth:20240307T203000
DTSTAMP:20260425T025132
CREATED:20240218T090316Z
LAST-MODIFIED:20240221T092158Z
UID:1160-1709836200-1709843400@mandurahtoastmasters.com.au
SUMMARY:Toast Talk Night
DESCRIPTION:Toast talk night
URL:https://mandurahtoastmasters.com.au/event/toast-talk-night/
LOCATION:All Malt Brewing\, Mandurah\, 5 Martyn Rd\, Mandurah WA 6210
CATEGORIES:Social Events
END:VEVENT
BEGIN:VEVENT
DTSTART;TZID=Australia/Perth:20240219T190000
DTEND;TZID=Australia/Perth:20240219T210000
DTSTAMP:20260425T025132
CREATED:20220707T233925Z
LAST-MODIFIED:20240218T090008Z
UID:983-1708369200-1708376400@mandurahtoastmasters.com.au
SUMMARY:Mandjar Toastmasters General Meeting
DESCRIPTION:
URL:https://mandurahtoastmasters.com.au/event/mandjar-toastmasters-general-meeting-2024-02-19/
LOCATION:Bortolo Pavilion\, 1 Bortolo Drive\, Greenfields WA 6210\, Greenfields\, WA\, 6210\, Australia
CATEGORIES:General Meeting
END:VEVENT
BEGIN:VEVENT
DTSTART;TZID=Australia/Perth:20240205T190000
DTEND;TZID=Australia/Perth:20240205T210000
DTSTAMP:20260425T025132
CREATED:20220707T233925Z
LAST-MODIFIED:20240218T090009Z
UID:982-1707159600-1707166800@mandurahtoastmasters.com.au
SUMMARY:Mandjar Toastmasters General Meeting
DESCRIPTION:
URL:https://mandurahtoastmasters.com.au/event/mandjar-toastmasters-general-meeting-2024-02-05/
LOCATION:Bortolo Pavilion\, 1 Bortolo Drive\, Greenfields WA 6210\, Greenfields\, WA\, 6210\, Australia
CATEGORIES:General Meeting
END:VEVENT
BEGIN:VEVENT
DTSTART;TZID=Australia/Perth:20240122T190000
DTEND;TZID=Australia/Perth:20240122T210000
DTSTAMP:20260425T025132
CREATED:20220707T233925Z
LAST-MODIFIED:20240218T090010Z
UID:981-1705950000-1705957200@mandurahtoastmasters.com.au
SUMMARY:Mandjar Toastmasters General Meeting
DESCRIPTION:
URL:https://mandurahtoastmasters.com.au/event/mandjar-toastmasters-general-meeting-2024-01-22/
LOCATION:Bortolo Pavilion\, 1 Bortolo Drive\, Greenfields WA 6210\, Greenfields\, WA\, 6210\, Australia
CATEGORIES:General Meeting
END:VEVENT
BEGIN:VEVENT
DTSTART;TZID=Australia/Perth:20231211T190000
DTEND;TZID=Australia/Perth:20231211T210000
DTSTAMP:20260425T025132
CREATED:20240218T091306Z
LAST-MODIFIED:20240218T091306Z
UID:1173-1702321200-1702328400@mandurahtoastmasters.com.au
SUMMARY:Christmas Meeting
DESCRIPTION:
URL:https://mandurahtoastmasters.com.au/event/christmas-meeting/
LOCATION:Bortolo Pavillion\, 1 Bortolo Drive\, Greenfields\, WA\, 6210\, Australia
CATEGORIES:Social Events
END:VEVENT
BEGIN:VEVENT
DTSTART;TZID=Australia/Perth:20231211T190000
DTEND;TZID=Australia/Perth:20231211T210000
DTSTAMP:20260425T025132
CREATED:20220707T233925Z
LAST-MODIFIED:20240218T090010Z
UID:978-1702321200-1702328400@mandurahtoastmasters.com.au
SUMMARY:Mandjar Toastmasters Christmas Party Meeting
DESCRIPTION:
URL:https://mandurahtoastmasters.com.au/event/mandjar-toastmasters-general-meeting-2023-12-11/
LOCATION:Bortolo Pavilion\, 1 Bortolo Drive\, Greenfields WA 6210\, Greenfields\, WA\, 6210\, Australia
CATEGORIES:General Meeting
END:VEVENT
BEGIN:VEVENT
DTSTART;TZID=Australia/Perth:20231127T190000
DTEND;TZID=Australia/Perth:20231127T210000
DTSTAMP:20260425T025132
CREATED:20220707T233925Z
LAST-MODIFIED:20240218T090011Z
UID:977-1701111600-1701118800@mandurahtoastmasters.com.au
SUMMARY:Mandjar Toastmasters General Meeting
DESCRIPTION:
URL:https://mandurahtoastmasters.com.au/event/mandjar-toastmasters-general-meeting-2023-11-27/
LOCATION:Bortolo Pavilion\, 1 Bortolo Drive\, Greenfields WA 6210\, Greenfields\, WA\, 6210\, Australia
CATEGORIES:General Meeting
END:VEVENT
BEGIN:VEVENT
DTSTART;TZID=Australia/Perth:20231113T190000
DTEND;TZID=Australia/Perth:20231113T210000
DTSTAMP:20260425T025132
CREATED:20220707T233925Z
LAST-MODIFIED:20240218T090011Z
UID:976-1699902000-1699909200@mandurahtoastmasters.com.au
SUMMARY:Mandjar Toastmasters General Meeting
DESCRIPTION:
URL:https://mandurahtoastmasters.com.au/event/mandjar-toastmasters-general-meeting-2023-11-13/
LOCATION:Bortolo Pavilion\, 1 Bortolo Drive\, Greenfields WA 6210\, Greenfields\, WA\, 6210\, Australia
CATEGORIES:General Meeting
END:VEVENT
BEGIN:VEVENT
DTSTART;TZID=Australia/Perth:20231030T190000
DTEND;TZID=Australia/Perth:20231030T210000
DTSTAMP:20260425T025132
CREATED:20220707T233925Z
LAST-MODIFIED:20240218T090012Z
UID:975-1698692400-1698699600@mandurahtoastmasters.com.au
SUMMARY:Mandjar Toastmasters General Meeting
DESCRIPTION:
URL:https://mandurahtoastmasters.com.au/event/mandjar-toastmasters-general-meeting-2023-10-30/
LOCATION:Bortolo Pavilion\, 1 Bortolo Drive\, Greenfields WA 6210\, Greenfields\, WA\, 6210\, Australia
CATEGORIES:General Meeting
END:VEVENT
BEGIN:VEVENT
DTSTART;TZID=Australia/Perth:20231016T190000
DTEND;TZID=Australia/Perth:20231016T210000
DTSTAMP:20260425T025132
CREATED:20220707T233925Z
LAST-MODIFIED:20240218T090013Z
UID:974-1697482800-1697490000@mandurahtoastmasters.com.au
SUMMARY:Mandjar Toastmasters General Meeting
DESCRIPTION:
URL:https://mandurahtoastmasters.com.au/event/mandjar-toastmasters-general-meeting-2023-10-16/
LOCATION:Bortolo Pavilion\, 1 Bortolo Drive\, Greenfields WA 6210\, Greenfields\, WA\, 6210\, Australia
CATEGORIES:General Meeting
END:VEVENT
BEGIN:VEVENT
DTSTART;TZID=Australia/Perth:20231002T190000
DTEND;TZID=Australia/Perth:20231002T210000
DTSTAMP:20260425T025132
CREATED:20220707T233925Z
LAST-MODIFIED:20240218T090013Z
UID:973-1696273200-1696280400@mandurahtoastmasters.com.au
SUMMARY:Mandjar Toastmasters General Meeting
DESCRIPTION:
URL:https://mandurahtoastmasters.com.au/event/mandjar-toastmasters-general-meeting-2023-10-02/
LOCATION:Bortolo Pavilion\, 1 Bortolo Drive\, Greenfields WA 6210\, Greenfields\, WA\, 6210\, Australia
CATEGORIES:General Meeting
END:VEVENT
BEGIN:VEVENT
DTSTART;TZID=Australia/Perth:20230918T190000
DTEND;TZID=Australia/Perth:20230918T210000
DTSTAMP:20260425T025132
CREATED:20220707T233925Z
LAST-MODIFIED:20240218T090014Z
UID:972-1695063600-1695070800@mandurahtoastmasters.com.au
SUMMARY:Mandjar Toastmasters General Meeting
DESCRIPTION:
URL:https://mandurahtoastmasters.com.au/event/mandjar-toastmasters-general-meeting-2023-09-18/
LOCATION:Bortolo Pavilion\, 1 Bortolo Drive\, Greenfields WA 6210\, Greenfields\, WA\, 6210\, Australia
CATEGORIES:General Meeting
END:VEVENT
BEGIN:VEVENT
DTSTART;TZID=Australia/Perth:20230904T190000
DTEND;TZID=Australia/Perth:20230904T210000
DTSTAMP:20260425T025132
CREATED:20220707T233925Z
LAST-MODIFIED:20240218T090014Z
UID:971-1693854000-1693861200@mandurahtoastmasters.com.au
SUMMARY:Mandjar Toastmasters General Meeting
DESCRIPTION:
URL:https://mandurahtoastmasters.com.au/event/mandjar-toastmasters-general-meeting-2023-09-04/
LOCATION:Bortolo Pavilion\, 1 Bortolo Drive\, Greenfields WA 6210\, Greenfields\, WA\, 6210\, Australia
CATEGORIES:General Meeting
END:VEVENT
BEGIN:VEVENT
DTSTART;TZID=Australia/Perth:20230821T190000
DTEND;TZID=Australia/Perth:20230821T210000
DTSTAMP:20260425T025132
CREATED:20220707T233925Z
LAST-MODIFIED:20240218T090015Z
UID:970-1692644400-1692651600@mandurahtoastmasters.com.au
SUMMARY:Mandjar Toastmasters General Meeting
DESCRIPTION:
URL:https://mandurahtoastmasters.com.au/event/mandjar-toastmasters-general-meeting-2023-08-21/
LOCATION:Bortolo Pavilion\, 1 Bortolo Drive\, Greenfields WA 6210\, Greenfields\, WA\, 6210\, Australia
CATEGORIES:General Meeting
END:VEVENT
BEGIN:VEVENT
DTSTART;TZID=Australia/Perth:20230807T190000
DTEND;TZID=Australia/Perth:20230807T210000
DTSTAMP:20260425T025132
CREATED:20220707T233925Z
LAST-MODIFIED:20240218T090015Z
UID:969-1691434800-1691442000@mandurahtoastmasters.com.au
SUMMARY:Mandjar Toastmasters General Meeting
DESCRIPTION:
URL:https://mandurahtoastmasters.com.au/event/mandjar-toastmasters-general-meeting-2023-08-07/
LOCATION:Bortolo Pavilion\, 1 Bortolo Drive\, Greenfields WA 6210\, Greenfields\, WA\, 6210\, Australia
CATEGORIES:General Meeting
END:VEVENT
BEGIN:VEVENT
DTSTART;TZID=Australia/Perth:20230724T190000
DTEND;TZID=Australia/Perth:20230724T210000
DTSTAMP:20260425T025132
CREATED:20220707T233925Z
LAST-MODIFIED:20240218T090016Z
UID:289-1690225200-1690232400@mandurahtoastmasters.com.au
SUMMARY:Mandjar Toastmasters General Meeting
DESCRIPTION:
URL:https://mandurahtoastmasters.com.au/event/mandjar-toastmasters-general-meeting/
LOCATION:Bortolo Pavilion\, 1 Bortolo Drive\, Greenfields WA 6210\, Greenfields\, WA\, 6210\, Australia
CATEGORIES:General Meeting
END:VEVENT
END:VCALENDAR