BEGIN:VCALENDAR
VERSION:2.0
PRODID:-//Toastmasters Mandurah - ECPv6.15.1.1//NONSGML v1.0//EN
CALSCALE:GREGORIAN
METHOD:PUBLISH
X-WR-CALNAME:Toastmasters Mandurah
X-ORIGINAL-URL:https://mandurahtoastmasters.com.au
X-WR-CALDESC:Events for Toastmasters Mandurah
REFRESH-INTERVAL;VALUE=DURATION:PT1H
X-Robots-Tag:noindex
X-PUBLISHED-TTL:PT1H
BEGIN:VTIMEZONE
TZID:Australia/Perth
BEGIN:STANDARD
TZOFFSETFROM:+0800
TZOFFSETTO:+0800
TZNAME:AWST
DTSTART:20240101T000000
END:STANDARD
END:VTIMEZONE
BEGIN:VEVENT
DTSTART;TZID=Australia/Perth:20250609T190000
DTEND;TZID=Australia/Perth:20250609T210000
DTSTAMP:20260424T232042
CREATED:20220707T233925Z
LAST-MODIFIED:20240218T085950Z
UID:1017-1749495600-1749502800@mandurahtoastmasters.com.au
SUMMARY:Mandjar Toastmasters General Meeting
DESCRIPTION:
URL:https://mandurahtoastmasters.com.au/event/mandjar-toastmasters-general-meeting-2025-06-09/
LOCATION:Bortolo Pavilion\, 1 Bortolo Drive\, Greenfields WA 6210\, Greenfields\, WA\, 6210\, Australia
CATEGORIES:General Meeting
END:VEVENT
BEGIN:VEVENT
DTSTART;TZID=Australia/Perth:20250526T190000
DTEND;TZID=Australia/Perth:20250526T210000
DTSTAMP:20260424T232042
CREATED:20220707T233925Z
LAST-MODIFIED:20240218T085950Z
UID:1016-1748286000-1748293200@mandurahtoastmasters.com.au
SUMMARY:Mandjar Toastmasters General Meeting
DESCRIPTION:
URL:https://mandurahtoastmasters.com.au/event/mandjar-toastmasters-general-meeting-2025-05-26/
LOCATION:Bortolo Pavilion\, 1 Bortolo Drive\, Greenfields WA 6210\, Greenfields\, WA\, 6210\, Australia
CATEGORIES:General Meeting
END:VEVENT
BEGIN:VEVENT
DTSTART;TZID=Australia/Perth:20250512T190000
DTEND;TZID=Australia/Perth:20250512T210000
DTSTAMP:20260424T232042
CREATED:20220707T233925Z
LAST-MODIFIED:20240218T085951Z
UID:1015-1747076400-1747083600@mandurahtoastmasters.com.au
SUMMARY:Mandjar Toastmasters General Meeting
DESCRIPTION:
URL:https://mandurahtoastmasters.com.au/event/mandjar-toastmasters-general-meeting-2025-05-12/
LOCATION:Bortolo Pavilion\, 1 Bortolo Drive\, Greenfields WA 6210\, Greenfields\, WA\, 6210\, Australia
CATEGORIES:General Meeting
END:VEVENT
BEGIN:VEVENT
DTSTART;TZID=Australia/Perth:20250428T190000
DTEND;TZID=Australia/Perth:20250428T210000
DTSTAMP:20260424T232042
CREATED:20220707T233925Z
LAST-MODIFIED:20240218T085952Z
UID:1014-1745866800-1745874000@mandurahtoastmasters.com.au
SUMMARY:Mandjar Toastmasters General Meeting
DESCRIPTION:
URL:https://mandurahtoastmasters.com.au/event/mandjar-toastmasters-general-meeting-2025-04-28/
LOCATION:Bortolo Pavilion\, 1 Bortolo Drive\, Greenfields WA 6210\, Greenfields\, WA\, 6210\, Australia
CATEGORIES:General Meeting
END:VEVENT
BEGIN:VEVENT
DTSTART;TZID=Australia/Perth:20250414T190000
DTEND;TZID=Australia/Perth:20250414T210000
DTSTAMP:20260424T232042
CREATED:20220707T233925Z
LAST-MODIFIED:20240218T085952Z
UID:1013-1744657200-1744664400@mandurahtoastmasters.com.au
SUMMARY:Mandjar Toastmasters General Meeting
DESCRIPTION:
URL:https://mandurahtoastmasters.com.au/event/mandjar-toastmasters-general-meeting-2025-04-14/
LOCATION:Bortolo Pavilion\, 1 Bortolo Drive\, Greenfields WA 6210\, Greenfields\, WA\, 6210\, Australia
CATEGORIES:General Meeting
END:VEVENT
BEGIN:VEVENT
DTSTART;TZID=Australia/Perth:20250331T190000
DTEND;TZID=Australia/Perth:20250331T210000
DTSTAMP:20260424T232042
CREATED:20220707T233925Z
LAST-MODIFIED:20240218T085953Z
UID:1012-1743447600-1743454800@mandurahtoastmasters.com.au
SUMMARY:Mandjar Toastmasters General Meeting
DESCRIPTION:
URL:https://mandurahtoastmasters.com.au/event/mandjar-toastmasters-general-meeting-2025-03-31/
LOCATION:Bortolo Pavilion\, 1 Bortolo Drive\, Greenfields WA 6210\, Greenfields\, WA\, 6210\, Australia
CATEGORIES:General Meeting
END:VEVENT
BEGIN:VEVENT
DTSTART;TZID=Australia/Perth:20250317T190000
DTEND;TZID=Australia/Perth:20250317T210000
DTSTAMP:20260424T232042
CREATED:20220707T233925Z
LAST-MODIFIED:20240218T085953Z
UID:1011-1742238000-1742245200@mandurahtoastmasters.com.au
SUMMARY:Mandjar Toastmasters General Meeting
DESCRIPTION:
URL:https://mandurahtoastmasters.com.au/event/mandjar-toastmasters-general-meeting-2025-03-17/
LOCATION:Bortolo Pavilion\, 1 Bortolo Drive\, Greenfields WA 6210\, Greenfields\, WA\, 6210\, Australia
CATEGORIES:General Meeting
END:VEVENT
BEGIN:VEVENT
DTSTART;TZID=Australia/Perth:20250306T183000
DTEND;TZID=Australia/Perth:20250306T203000
DTSTAMP:20260424T232042
CREATED:20250219T120809Z
LAST-MODIFIED:20250219T120854Z
UID:1244-1741285800-1741293000@mandurahtoastmasters.com.au
SUMMARY:Toast Talk Night
DESCRIPTION:Toast talk night
URL:https://mandurahtoastmasters.com.au/event/toast-talk-night-5/
LOCATION:All Malt Brewing\, Mandurah\, 5 Martyn Rd\, Mandurah WA 6210
CATEGORIES:Social Events
END:VEVENT
BEGIN:VEVENT
DTSTART;TZID=Australia/Perth:20250217T190000
DTEND;TZID=Australia/Perth:20250217T210000
DTSTAMP:20260424T232042
CREATED:20220707T233925Z
LAST-MODIFIED:20240218T085954Z
UID:1009-1739818800-1739826000@mandurahtoastmasters.com.au
SUMMARY:Mandjar Toastmasters General Meeting
DESCRIPTION:
URL:https://mandurahtoastmasters.com.au/event/mandjar-toastmasters-general-meeting-2025-02-17/
LOCATION:Bortolo Pavilion\, 1 Bortolo Drive\, Greenfields WA 6210\, Greenfields\, WA\, 6210\, Australia
CATEGORIES:General Meeting
END:VEVENT
BEGIN:VEVENT
DTSTART;TZID=Australia/Perth:20250203T190000
DTEND;TZID=Australia/Perth:20250203T210000
DTSTAMP:20260424T232042
CREATED:20220707T233925Z
LAST-MODIFIED:20240218T085955Z
UID:1008-1738609200-1738616400@mandurahtoastmasters.com.au
SUMMARY:Mandjar Toastmasters General Meeting
DESCRIPTION:
URL:https://mandurahtoastmasters.com.au/event/mandjar-toastmasters-general-meeting-2025-02-03/
LOCATION:Bortolo Pavilion\, 1 Bortolo Drive\, Greenfields WA 6210\, Greenfields\, WA\, 6210\, Australia
CATEGORIES:General Meeting
END:VEVENT
BEGIN:VEVENT
DTSTART;TZID=Australia/Perth:20241211T183000
DTEND;TZID=Australia/Perth:20241211T203000
DTSTAMP:20260424T232042
CREATED:20241021T093615Z
LAST-MODIFIED:20241021T102348Z
UID:1211-1733941800-1733949000@mandurahtoastmasters.com.au
SUMMARY:Christmas Windup
DESCRIPTION:Christmas Windup
URL:https://mandurahtoastmasters.com.au/event/christmas-windup/
LOCATION:TBC
CATEGORIES:Social Events
END:VEVENT
BEGIN:VEVENT
DTSTART;TZID=Australia/Perth:20241125T190000
DTEND;TZID=Australia/Perth:20241125T210000
DTSTAMP:20260424T232042
CREATED:20220707T233925Z
LAST-MODIFIED:20240218T085957Z
UID:1003-1732561200-1732568400@mandurahtoastmasters.com.au
SUMMARY:Mandjar Toastmasters General Meeting
DESCRIPTION:
URL:https://mandurahtoastmasters.com.au/event/mandjar-toastmasters-general-meeting-2024-11-25/
LOCATION:Bortolo Pavilion\, 1 Bortolo Drive\, Greenfields WA 6210\, Greenfields\, WA\, 6210\, Australia
CATEGORIES:General Meeting
END:VEVENT
BEGIN:VEVENT
DTSTART;TZID=Australia/Perth:20241118T190000
DTEND;TZID=Australia/Perth:20241118T210000
DTSTAMP:20260424T232042
CREATED:20241021T093322Z
LAST-MODIFIED:20241021T093322Z
UID:1207-1731956400-1731963600@mandurahtoastmasters.com.au
SUMMARY:Mandjar Toastmasters Pathways Workshop
DESCRIPTION:A night to help get our members onto Pathways effectively.
URL:https://mandurahtoastmasters.com.au/event/mandjar-toastmasters-pathways-workshop/
LOCATION:Bortolo Pavilion\, 1 Bortolo Drive\, Greenfields WA 6210\, Greenfields\, WA\, 6210\, Australia
CATEGORIES:General Meeting
END:VEVENT
BEGIN:VEVENT
DTSTART;TZID=Australia/Perth:20241111T190000
DTEND;TZID=Australia/Perth:20241111T210000
DTSTAMP:20260424T232042
CREATED:20220707T233925Z
LAST-MODIFIED:20240218T085958Z
UID:1002-1731351600-1731358800@mandurahtoastmasters.com.au
SUMMARY:Mandjar Toastmasters General Meeting
DESCRIPTION:
URL:https://mandurahtoastmasters.com.au/event/mandjar-toastmasters-general-meeting-2024-11-11/
LOCATION:Bortolo Pavilion\, 1 Bortolo Drive\, Greenfields WA 6210\, Greenfields\, WA\, 6210\, Australia
CATEGORIES:General Meeting
END:VEVENT
BEGIN:VEVENT
DTSTART;TZID=Australia/Perth:20241031T183000
DTEND;TZID=Australia/Perth:20241031T203000
DTSTAMP:20260424T232042
CREATED:20240218T090559Z
LAST-MODIFIED:20241024T024714Z
UID:1163-1730399400-1730406600@mandurahtoastmasters.com.au
SUMMARY:Halloween Toast Talk Night
DESCRIPTION:Halloween Toast Talk Night\nEVERYONE IS WELCOME!\n\nJoin us for another fun-filled Toast Talk Night with Mandjar Toastmasters!\n\nLooking for a relaxed\, social evening with great company and the chance to simply spectate or participate in public speaking in a supportive environment? Whether you’re curious about Toastmasters or just want to enjoy a fun night out\, this event is the perfect way to dip your toes into public speaking.\n\n– Drinks available for purchase– Light nibbles provided– Free to attend\n\nBring a friend or come solo – everyone’s welcome. It’s a fantastic opportunity to meet new people\, build confidence\, and learn more about the friendly Mandjar Toastmasters community.\nCurious about Toastmasters? This casual event is the perfect introduction. Relax\, have fun\, and see what we’re all about!\nDate: Thursday 31st October \nLocation: All Malt Brewing\n5 Martyn Road\, Mandurah \n HALLOWEEN THEME  – Dress up is optional \nStart time: 6.30 pm \nEnd time: 8.30 pm \nDrinks: Craft Beer on Tap \nAll Malt Brewing Events
URL:https://mandurahtoastmasters.com.au/event/toast-talk-night-4/
LOCATION:All Malt Brewing\, Mandurah\, 5 Martyn Rd\, Mandurah WA 6210
CATEGORIES:Social Events
END:VEVENT
BEGIN:VEVENT
DTSTART;TZID=Australia/Perth:20241028T190000
DTEND;TZID=Australia/Perth:20241028T210000
DTSTAMP:20260424T232042
CREATED:20220707T233925Z
LAST-MODIFIED:20240218T085958Z
UID:1001-1730142000-1730149200@mandurahtoastmasters.com.au
SUMMARY:Mandjar Toastmasters General Meeting
DESCRIPTION:
URL:https://mandurahtoastmasters.com.au/event/mandjar-toastmasters-general-meeting-2024-10-28/
LOCATION:Bortolo Pavilion\, 1 Bortolo Drive\, Greenfields WA 6210\, Greenfields\, WA\, 6210\, Australia
CATEGORIES:General Meeting
END:VEVENT
BEGIN:VEVENT
DTSTART;TZID=Australia/Perth:20241014T190000
DTEND;TZID=Australia/Perth:20241014T210000
DTSTAMP:20260424T232042
CREATED:20220707T233925Z
LAST-MODIFIED:20240218T085959Z
UID:1000-1728932400-1728939600@mandurahtoastmasters.com.au
SUMMARY:Mandjar Toastmasters General Meeting
DESCRIPTION:
URL:https://mandurahtoastmasters.com.au/event/mandjar-toastmasters-general-meeting-2024-10-14/
LOCATION:Bortolo Pavilion\, 1 Bortolo Drive\, Greenfields WA 6210\, Greenfields\, WA\, 6210\, Australia
CATEGORIES:General Meeting
END:VEVENT
BEGIN:VEVENT
DTSTART;TZID=Australia/Perth:20241006T110000
DTEND;TZID=Australia/Perth:20241006T133000
DTSTAMP:20260424T232042
CREATED:20241005T235515Z
LAST-MODIFIED:20241006T000810Z
UID:1199-1728212400-1728221400@mandurahtoastmasters.com.au
SUMMARY:International Area 32 Humorous & Table Topics Competition
DESCRIPTION:Toastmaster Clubs from South of the River will come together to compete for the title of best Humorous speech and best Table Topics speech for Area 32.\nThe day will consist of two separate contests.\n1. Humorous 11am – 12pm2. Table Topics 12.30 – 1.30pm\nMorning Tea and lunch have been provided by 2 Pugs Cafe in Meadow Springs.\nWe will also have cash prizes and a raffle on the day.\nSponsored by Bendigo Bank Halls Head
URL:https://mandurahtoastmasters.com.au/event/international-area-32-humorous-table-topics-competition/
LOCATION:Frasers Landing\, 1 Landings Boulevard\, Coodanup\, WA\, 6210
CATEGORIES:Competition,General Meeting
END:VEVENT
BEGIN:VEVENT
DTSTART;TZID=Australia/Perth:20240930T190000
DTEND;TZID=Australia/Perth:20240930T210000
DTSTAMP:20260424T232042
CREATED:20220707T233925Z
LAST-MODIFIED:20240218T085959Z
UID:999-1727722800-1727730000@mandurahtoastmasters.com.au
SUMMARY:Mandjar Toastmasters General Meeting
DESCRIPTION:
URL:https://mandurahtoastmasters.com.au/event/mandjar-toastmasters-general-meeting-2024-09-30/
LOCATION:Bortolo Pavilion\, 1 Bortolo Drive\, Greenfields WA 6210\, Greenfields\, WA\, 6210\, Australia
CATEGORIES:General Meeting
END:VEVENT
BEGIN:VEVENT
DTSTART;TZID=Australia/Perth:20240929T190000
DTEND;TZID=Australia/Perth:20240929T210000
DTSTAMP:20260424T232042
CREATED:20240218T090810Z
LAST-MODIFIED:20240218T090810Z
UID:1171-1727636400-1727643600@mandurahtoastmasters.com.au
SUMMARY:Fees Due
DESCRIPTION:Toastmasters Fees due
URL:https://mandurahtoastmasters.com.au/event/fees-due-2/
CATEGORIES:Fees Due
END:VEVENT
BEGIN:VEVENT
DTSTART;TZID=Australia/Perth:20240916T190000
DTEND;TZID=Australia/Perth:20240916T210000
DTSTAMP:20260424T232042
CREATED:20220707T233925Z
LAST-MODIFIED:20240218T090000Z
UID:998-1726513200-1726520400@mandurahtoastmasters.com.au
SUMMARY:Mandjar Toastmasters General Meeting
DESCRIPTION:
URL:https://mandurahtoastmasters.com.au/event/mandjar-toastmasters-general-meeting-2024-09-16/
LOCATION:Bortolo Pavilion\, 1 Bortolo Drive\, Greenfields WA 6210\, Greenfields\, WA\, 6210\, Australia
CATEGORIES:General Meeting
END:VEVENT
BEGIN:VEVENT
DTSTART;TZID=Australia/Perth:20240912T183000
DTEND;TZID=Australia/Perth:20240912T203000
DTSTAMP:20260424T232042
CREATED:20240218T090548Z
LAST-MODIFIED:20240911T100417Z
UID:1164-1726165800-1726173000@mandurahtoastmasters.com.au
SUMMARY:Toast Talk Night
DESCRIPTION:Toast talk night\n \nDate: Thursday 12th September \nLocation: All Malt Brewing\n5 Martyn Road\, Mandurah \nStart time: 6.30 pm \nEnd time: 8.30 pm \nDrinks: Craft Beer on Tap \nAll Malt Brewing Events
URL:https://mandurahtoastmasters.com.au/event/toast-talk-night-3/
LOCATION:All Malt Brewing\, Mandurah\, 5 Martyn Rd\, Mandurah WA 6210
CATEGORIES:Social Events
END:VEVENT
BEGIN:VEVENT
DTSTART;TZID=Australia/Perth:20240902T190000
DTEND;TZID=Australia/Perth:20240902T210000
DTSTAMP:20260424T232042
CREATED:20220707T233925Z
LAST-MODIFIED:20240218T090000Z
UID:997-1725303600-1725310800@mandurahtoastmasters.com.au
SUMMARY:Mandjar Toastmasters General Meeting
DESCRIPTION:
URL:https://mandurahtoastmasters.com.au/event/mandjar-toastmasters-general-meeting-2024-09-02/
LOCATION:Bortolo Pavilion\, 1 Bortolo Drive\, Greenfields WA 6210\, Greenfields\, WA\, 6210\, Australia
CATEGORIES:General Meeting
END:VEVENT
BEGIN:VEVENT
DTSTART;TZID=Australia/Perth:20240819T190000
DTEND;TZID=Australia/Perth:20240819T210000
DTSTAMP:20260424T232042
CREATED:20220707T233925Z
LAST-MODIFIED:20240218T090001Z
UID:996-1724094000-1724101200@mandurahtoastmasters.com.au
SUMMARY:Mandjar Toastmasters General Meeting
DESCRIPTION:
URL:https://mandurahtoastmasters.com.au/event/mandjar-toastmasters-general-meeting-2024-08-19/
LOCATION:Bortolo Pavilion\, 1 Bortolo Drive\, Greenfields WA 6210\, Greenfields\, WA\, 6210\, Australia
CATEGORIES:General Meeting
END:VEVENT
BEGIN:VEVENT
DTSTART;TZID=Australia/Perth:20240805T190000
DTEND;TZID=Australia/Perth:20240805T210000
DTSTAMP:20260424T232042
CREATED:20220707T233925Z
LAST-MODIFIED:20240218T090001Z
UID:995-1722884400-1722891600@mandurahtoastmasters.com.au
SUMMARY:Mandjar Toastmasters General Meeting
DESCRIPTION:
URL:https://mandurahtoastmasters.com.au/event/mandjar-toastmasters-general-meeting-2024-08-05/
LOCATION:Bortolo Pavilion\, 1 Bortolo Drive\, Greenfields WA 6210\, Greenfields\, WA\, 6210\, Australia
CATEGORIES:General Meeting
END:VEVENT
BEGIN:VEVENT
DTSTART;TZID=Australia/Perth:20240722T190000
DTEND;TZID=Australia/Perth:20240722T210000
DTSTAMP:20260424T232042
CREATED:20220707T233925Z
LAST-MODIFIED:20240218T090002Z
UID:994-1721674800-1721682000@mandurahtoastmasters.com.au
SUMMARY:Mandjar Toastmasters General Meeting
DESCRIPTION:
URL:https://mandurahtoastmasters.com.au/event/mandjar-toastmasters-general-meeting-2024-07-22/
LOCATION:Bortolo Pavilion\, 1 Bortolo Drive\, Greenfields WA 6210\, Greenfields\, WA\, 6210\, Australia
CATEGORIES:General Meeting
END:VEVENT
BEGIN:VEVENT
DTSTART;TZID=Australia/Perth:20240708T190000
DTEND;TZID=Australia/Perth:20240708T210000
DTSTAMP:20260424T232042
CREATED:20220707T233925Z
LAST-MODIFIED:20240218T090003Z
UID:993-1720465200-1720472400@mandurahtoastmasters.com.au
SUMMARY:Mandjar Toastmasters General Meeting
DESCRIPTION:
URL:https://mandurahtoastmasters.com.au/event/mandjar-toastmasters-general-meeting-2024-07-08/
LOCATION:Bortolo Pavilion\, 1 Bortolo Drive\, Greenfields WA 6210\, Greenfields\, WA\, 6210\, Australia
CATEGORIES:General Meeting
END:VEVENT
BEGIN:VEVENT
DTSTART;TZID=Australia/Perth:20240624T190000
DTEND;TZID=Australia/Perth:20240624T210000
DTSTAMP:20260424T232042
CREATED:20220707T233925Z
LAST-MODIFIED:20240218T090003Z
UID:992-1719255600-1719262800@mandurahtoastmasters.com.au
SUMMARY:Mandjar Toastmasters General Meeting
DESCRIPTION:
URL:https://mandurahtoastmasters.com.au/event/mandjar-toastmasters-general-meeting-2024-06-24/
LOCATION:Bortolo Pavilion\, 1 Bortolo Drive\, Greenfields WA 6210\, Greenfields\, WA\, 6210\, Australia
CATEGORIES:General Meeting
END:VEVENT
BEGIN:VEVENT
DTSTART;TZID=Australia/Perth:20240610T190000
DTEND;TZID=Australia/Perth:20240610T210000
DTSTAMP:20260424T232042
CREATED:20220707T233925Z
LAST-MODIFIED:20240218T090004Z
UID:991-1718046000-1718053200@mandurahtoastmasters.com.au
SUMMARY:Mandjar Toastmasters General Meeting
DESCRIPTION:
URL:https://mandurahtoastmasters.com.au/event/mandjar-toastmasters-general-meeting-2024-06-10/
LOCATION:Bortolo Pavilion\, 1 Bortolo Drive\, Greenfields WA 6210\, Greenfields\, WA\, 6210\, Australia
CATEGORIES:General Meeting
END:VEVENT
BEGIN:VEVENT
DTSTART;TZID=Australia/Perth:20240527T190000
DTEND;TZID=Australia/Perth:20240527T210000
DTSTAMP:20260424T232042
CREATED:20220707T233925Z
LAST-MODIFIED:20240218T090005Z
UID:990-1716836400-1716843600@mandurahtoastmasters.com.au
SUMMARY:Mandjar Toastmasters General Meeting
DESCRIPTION:
URL:https://mandurahtoastmasters.com.au/event/mandjar-toastmasters-general-meeting-2024-05-27/
LOCATION:Bortolo Pavilion\, 1 Bortolo Drive\, Greenfields WA 6210\, Greenfields\, WA\, 6210\, Australia
CATEGORIES:General Meeting
END:VEVENT
END:VCALENDAR